BEGIN:VCALENDAR
VERSION:2.0
PRODID:-//Aspen Sky - ECPv6.15.16//NONSGML v1.0//EN
CALSCALE:GREGORIAN
METHOD:PUBLISH
X-WR-CALNAME:Aspen Sky
X-ORIGINAL-URL:https://www.aspen-sky.com
X-WR-CALDESC:Events for Aspen Sky
REFRESH-INTERVAL;VALUE=DURATION:PT1H
X-Robots-Tag:noindex
X-PUBLISHED-TTL:PT1H
BEGIN:VTIMEZONE
TZID:America/Chicago
BEGIN:DAYLIGHT
TZOFFSETFROM:-0600
TZOFFSETTO:-0500
TZNAME:CDT
DTSTART:20250309T080000
END:DAYLIGHT
BEGIN:STANDARD
TZOFFSETFROM:-0500
TZOFFSETTO:-0600
TZNAME:CST
DTSTART:20251102T070000
END:STANDARD
BEGIN:DAYLIGHT
TZOFFSETFROM:-0600
TZOFFSETTO:-0500
TZNAME:CDT
DTSTART:20260308T080000
END:DAYLIGHT
BEGIN:STANDARD
TZOFFSETFROM:-0500
TZOFFSETTO:-0600
TZNAME:CST
DTSTART:20261101T070000
END:STANDARD
BEGIN:DAYLIGHT
TZOFFSETFROM:-0600
TZOFFSETTO:-0500
TZNAME:CDT
DTSTART:20270314T080000
END:DAYLIGHT
BEGIN:STANDARD
TZOFFSETFROM:-0500
TZOFFSETTO:-0600
TZNAME:CST
DTSTART:20271107T070000
END:STANDARD
END:VTIMEZONE
BEGIN:VEVENT
DTSTART;TZID=America/Chicago:20260423T190000
DTEND;TZID=America/Chicago:20260423T190000
DTSTAMP:20260421T102924
CREATED:20260309T183410Z
LAST-MODIFIED:20260309T184103Z
UID:10000460-1776970800-1776970800@www.aspen-sky.com
SUMMARY:Aspen Sky Gives Back: Trivia Night
DESCRIPTION:🌟 Aspen Sky Gives Back: Trivia Night 🌟 \nJoin us for this month’s Aspen Sky Gives Back: Trivia Night\, where we’ll be raising funds to support The Friends of Slinger Parks and Rec! Come out for an evening of fun\, friendly competition\, and community spirit — all for a great cause. \n🗓️ When: Thursday\, April 23rd \n🕕 Check-In: Begins at 6:00 PM\n🧠 Trivia: 7:00 PM – 9:00 PM\n👥 Teams: 2–10 people \n🍷 Grab a cocktail or glass of wine while you test your knowledge and compete for bragging rights — all while giving back to a great local cause! \nCome for the fun\, stay for the impact! \n20% Off For Club Members
URL:https://www.aspen-sky.com/venuecalendar/aspen-sky-gives-back-trivia-night-21/
LOCATION:Aspen Sky – Winery\, Distillery\, & Event Center\, 860 Enterprise Dr\, 53086
CATEGORIES:Winery Event
ATTACH;FMTTYPE=image/jpeg:https://www.aspen-sky.com/wp-content/uploads/2026/03/3276_image_646380938_903367332452044_7095921013272856176_n.jpg
END:VEVENT
BEGIN:VEVENT
DTSTART;TZID=America/Chicago:20260424T180000
DTEND;TZID=America/Chicago:20260424T210000
DTSTAMP:20260421T102924
CREATED:20260320T163343Z
LAST-MODIFIED:20260320T163450Z
UID:10000464-1777053600-1777064400@www.aspen-sky.com
SUMMARY:Acoustic Night: Featuring Fisher Keys
DESCRIPTION:Acoustic Night: Live Music with Fisher Keys 🎹 \nJoin us for Acoustic Night featuring Fischer Keys! Jonathan is a talented pianist and vocalist with over 25 years of performance experience\, blending soulful classics from artists like Bill Withers and Sam Cooke with creative interpretations of modern songs. \nWith smooth piano\, rich vocals\, light humor\, and great crowd interaction\, Jonathan creates a relaxed and fun atmosphere for everyone in the room. \nCome enjoy live music while sipping your favorite Aspen Sky beverages. Great music and great drinks! ✨ \nNo ticket needed! Live music from 6pm-9pm
URL:https://www.aspen-sky.com/venuecalendar/acoustic-night-featuring-fisher-keys/
LOCATION:Aspen Sky – Winery\, Distillery\, & Event Center\, 860 Enterprise Dr\, 53086
CATEGORIES:Winery Event
ATTACH;FMTTYPE=image/jpeg:https://www.aspen-sky.com/wp-content/uploads/2026/03/3304_image_649872940_911376921651085_2733878757040572576_n.jpg
END:VEVENT
BEGIN:VEVENT
DTSTART;TZID=America/Chicago:20260426T110000
DTEND;TZID=America/Chicago:20260426T110000
DTSTAMP:20260421T102924
CREATED:20260320T163201Z
LAST-MODIFIED:20260320T163234Z
UID:10000462-1777201200-1777201200@www.aspen-sky.com
SUMMARY:Brunch Flight
DESCRIPTION:🍹 The Ultimate Brunch Flight at Aspen Sky 🍹 \nBrunch just got even better! We’ve taken the best brunch beverages and turned them into one fantastic Aspen Sky flight—perfect for sipping with friends. \nEnjoy four 5oz pours featuring your brunch favorites: \n🍅 Bloody Mary\n🍊 Screwdriver\n🍾 Mimosa\n☕ Espresso Martini \nWhether you’re catching up with friends or closing your weekend\, this flight has something for everyone. Come sip your way through the best of brunch at Aspen Sky! ✨ \nSunday\, April 26th: 11am-2pm \nClub Members Receive 20% off your ticket!
URL:https://www.aspen-sky.com/venuecalendar/brunch-flight/
LOCATION:Aspen Sky – Winery\, Distillery\, & Event Center\, 860 Enterprise Dr\, 53086
CATEGORIES:Winery Event
ATTACH;FMTTYPE=image/jpeg:https://www.aspen-sky.com/wp-content/uploads/2026/03/3297_image_653109430_916957207759723_5642529971819606887_n.jpg
END:VEVENT
BEGIN:VEVENT
DTSTART;TZID=America/Chicago:20260501T180000
DTEND;TZID=America/Chicago:20260501T180000
DTSTAMP:20260421T102924
CREATED:20260403T152304Z
LAST-MODIFIED:20260403T152426Z
UID:10000469-1777658400-1777658400@www.aspen-sky.com
SUMMARY:Acoustic Night: Live Music with Fisher Keys
DESCRIPTION:Acoustic Night: Live Music with Fisher Keys 🎹 \nJoin us for Acoustic Night featuring Fischer Keys! Jonathan is a talented pianist and vocalist with over 25 years of performance experience\, blending soulful classics from artists like Bill Withers and Sam Cooke with creative interpretations of modern songs.\nWith smooth piano\, rich vocals\, light humor\, and great crowd interaction\, Jonathan creates a relaxed and fun atmosphere for everyone in the room. \nCome enjoy live music while sipping your favorite Aspen Sky beverages. Great music and great drinks! ✨ \nNo ticket needed! Live music from 6pm-9pm
URL:https://www.aspen-sky.com/venuecalendar/acoustic-night-live-music-with-fisher-keys/
LOCATION:Aspen Sky – Winery\, Distillery\, & Event Center\, 860 Enterprise Dr\, 53086
CATEGORIES:Winery Event
ATTACH;FMTTYPE=image/jpeg:https://www.aspen-sky.com/wp-content/uploads/2026/04/3323_image_662067678_928446483277462_4344358310531420808_n.jpg
END:VEVENT
BEGIN:VEVENT
DTSTART;TZID=America/Chicago:20260503T140000
DTEND;TZID=America/Chicago:20260503T140000
DTSTAMP:20260421T102924
CREATED:20260403T152309Z
LAST-MODIFIED:20260403T152420Z
UID:10000470-1777816800-1777816800@www.aspen-sky.com
SUMMARY:Puzzle Race
DESCRIPTION:🧩⏳ Puzzle Race\nThink you and your crew have what it takes to master a 500-piece puzzle under pressure? Gather your team of 2–10 players and get ready for Aspen Sky’s ultimate Puzzle Race! \n🕑 Check-in begins at 1:00 PM — grab a drink\, get comfortable\, and start planning your puzzle strategy!\n🏆 When the clock starts ticking\, it’s a fast-paced race to be the first team to complete your puzzle! \nSunday\, May 3rd: 2pm-4pm\nCheck-In Starts at 1pm! \nSpend your afternoon with us for a mix of focus\, teamwork\, and friendly competition—perfect for puzzle lovers and anyone up for a challenge! 🎉 \n20% Off For Social Club Members
URL:https://www.aspen-sky.com/venuecalendar/puzzle-race-16/
LOCATION:Aspen Sky – Winery\, Distillery\, & Event Center\, 860 Enterprise Dr\, 53086
CATEGORIES:Winery Event
ATTACH;FMTTYPE=image/jpeg:https://www.aspen-sky.com/wp-content/uploads/2026/04/3325_image_660578173_928454693276641_2167364504985583215_n.jpg
END:VEVENT
BEGIN:VEVENT
DTSTART;TZID=America/Chicago:20260507T170000
DTEND;TZID=America/Chicago:20260507T170000
DTSTAMP:20260421T102924
CREATED:20260403T152315Z
LAST-MODIFIED:20260403T152413Z
UID:10000471-1778173200-1778173200@www.aspen-sky.com
SUMMARY:Margarita Flight Night
DESCRIPTION:Margarita Flight Night 🍹 \nKeep the Cinco de Mayo vibes going and join us for a festive Margarita Flight Night! Sip and savor four 5oz pours of our handcrafted margarita creations\, each featuring Aspen Ridge Agave. These refreshing flavors are inspired by the essence of spring—bright\, bold\, and perfectly balanced. \nGrab your friends and head to Aspen Sky for an evening of great drinks and even better company. \nThursday\, May 7th | 5:00 PM – 8:00 PM \nCheers to spring and margaritas—we’ll see you there! \n*20% off for Social Club members. This is a ticketed event. Space is limited. Purchase your tickets today!*
URL:https://www.aspen-sky.com/venuecalendar/margarita-flight-night-13/
LOCATION:Aspen Sky – Winery\, Distillery\, & Event Center\, 860 Enterprise Dr\, 53086
CATEGORIES:Winery Event
ATTACH;FMTTYPE=image/jpeg:https://www.aspen-sky.com/wp-content/uploads/2026/04/3327_image_657565761_928470776608366_8632201435910682070_n.jpg
END:VEVENT
BEGIN:VEVENT
DTSTART;TZID=America/Chicago:20260507T173000
DTEND;TZID=America/Chicago:20260507T173000
DTSTAMP:20260421T102924
CREATED:20260420T201202Z
LAST-MODIFIED:20260420T201530Z
UID:10000475-1778175000-1778175000@www.aspen-sky.com
SUMMARY:Pour & Play: Patio Game Night
DESCRIPTION:Looking for something fun to do on Thursday nights that doesn’t require a schedule or a big commitment?\nJoin us for Pour & Play – Lawn Game Nights\nIt’s a casual\, drop-in evening of lawn games\, drinks\, and a little friendly competition. \n🍷 Grab a drink\n 🎯 Jump into a game\n 🏆 Rack up wins and compete for prizes \nNo brackets. No sign-ups. No pressure. \nJust show up\, add your name to the list\, and play a few quick rounds.  \n🎯 This Week’s Games Include:\nBags\nBocce Roll\nGiant Pong \n⏱️ How It Works:\n5:30 PM – Warm-up play begins\n6:00 PM – Games officially start (wins count)\nPlay quick rounds and rotate through\nWinner stays on and earns a point\n8:30 PM – Winners announced + prizes awarded \n🏆 The team with the most wins at the end of the night takes home a prize.\nDrop in. Grab a drink. Play a few rounds.
URL:https://www.aspen-sky.com/venuecalendar/pour-play-patio-game-night/
LOCATION:Aspen Sky – Winery\, Distillery\, & Event Center\, 860 Enterprise Dr\, 53086
CATEGORIES:Winery Event
ATTACH;FMTTYPE=image/jpeg:https://www.aspen-sky.com/wp-content/uploads/2026/04/3344_image_670409331_938035455651898_3019851355038361845_n.jpg
END:VEVENT
BEGIN:VEVENT
DTSTART;TZID=America/Chicago:20260507T190000
DTEND;TZID=America/Chicago:20260507T190000
DTSTAMP:20260421T102924
CREATED:20260326T222713Z
LAST-MODIFIED:20260326T222801Z
UID:10000465-1778180400-1778180400@www.aspen-sky.com
SUMMARY:Book Club Discussion:  The Winemakers Wife
DESCRIPTION:Join us at Aspen Sky for our next Book Club gathering as we dive into The Winemaker’s Wife—a captivating historical fiction novel. This page-turner is perfect for wine lovers and book enthusiasts alike! \nSip\, relax\, and connect with fellow readers while enjoying $7 glasses of wine in a cozy\, welcoming atmosphere. \nCome for the story\, stay for the wine\, and leave with new friends—we can’t wait to see you there! 🍷📖✨
URL:https://www.aspen-sky.com/venuecalendar/book-club-discussion-the-winemakers-wife/
LOCATION:Aspen Sky – Winery\, Distillery\, & Event Center\, 860 Enterprise Dr\, 53086
CATEGORIES:Winery Event
ATTACH;FMTTYPE=image/jpeg:https://www.aspen-sky.com/wp-content/uploads/2026/03/3309_image_655819682_922736077181836_2411986534837814057_n.jpg
END:VEVENT
BEGIN:VEVENT
DTSTART;TZID=America/Chicago:20260508T180000
DTEND;TZID=America/Chicago:20260508T180000
DTSTAMP:20260421T102924
CREATED:20260403T152322Z
LAST-MODIFIED:20260403T152404Z
UID:10000472-1778263200-1778263200@www.aspen-sky.com
SUMMARY:Acoustic Night: Live Music with Fisher Keys
DESCRIPTION:Acoustic Night: Live Music with Fisher Keys 🎹 \nJoin us for Acoustic Night featuring Fischer Keys! Jonathan is a talented pianist and vocalist with over 25 years of performance experience\, blending soulful classics from artists like Bill Withers and Sam Cooke with creative interpretations of modern songs.\nWith smooth piano\, rich vocals\, light humor\, and great crowd interaction\, Jonathan creates a relaxed and fun atmosphere for everyone in the room. \nCome enjoy live music while sipping your favorite Aspen Sky beverages. Great music and great drinks! ✨\nNo ticket needed! Live music from 6pm-9pm
URL:https://www.aspen-sky.com/venuecalendar/acoustic-night-live-music-with-fisher-keys-2/
LOCATION:Aspen Sky – Winery\, Distillery\, & Event Center\, 860 Enterprise Dr\, 53086
CATEGORIES:Winery Event
ATTACH;FMTTYPE=image/jpeg:https://www.aspen-sky.com/wp-content/uploads/2026/04/3329_image_659704886_928472596608184_6528837564327855055_n.jpg
END:VEVENT
BEGIN:VEVENT
DTSTART;TZID=America/Chicago:20260510T093000
DTEND;TZID=America/Chicago:20260510T093000
DTSTAMP:20260421T102924
CREATED:20260326T222718Z
LAST-MODIFIED:20260403T152358Z
UID:10000466-1778405400-1778405400@www.aspen-sky.com
SUMMARY:Mother's Day Brunch
DESCRIPTION:🌸 Mother’s Day Brunch at Aspen Sky 🌸 \nCelebrate Mom the way she deserves—with a relaxing\, delicious\, and memorable brunch experience at Aspen Sky. Gather your loved ones and let us take care of everything while you enjoy quality time with the incredible moms in your life. 💖 \n🥂 $10 Drink Specials \n✨ Peach Bellini\n✨ Cosmic Sky\n✨ Pineapple Screwdriver\n✨ Mimosa \n🍽️ Brunch Menu Highlights\nEnjoy a wide variety of sweet and savory favorites: \nCroque Madame Sandwich \nScramble Eggs \nChocolate Chip Waffles \nMini Quiche \nHome Fries \nMaple & Brown Sugar Ham and Sausage \nMixed Berry French Toast Bake \nAssortment of Fresh Breads\, Bagels & Pastries \nFresh Fruit with Honey Lemon Whipped Cream \nBarbecue Pulled Pork Sliders \nButtermilk Biscuits & Sausage Gravy \nMini Chicken Salad Croissants \nCaprese Pasta Salad \nSouthern Baked Macaroni & Cheese \nFresh Rolls with Honey Butter \nBuild Your Own Salad Bar \nBuild Your Own Yogurt Parfait \n📅 Sunday\, May 10th\n⏰ 9:30 AM – 11:30 AM \n✨ Treat Mom to a stress-free\, joy-filled morning—because she deserves nothing less. \nCommunal Seating! Ticket Includes Milk or Orange Juice
URL:https://www.aspen-sky.com/venuecalendar/mothers-day-brunch-3/
LOCATION:Aspen Sky – Winery\, Distillery\, & Event Center\, 860 Enterprise Dr\, 53086
CATEGORIES:Winery Event
ATTACH;FMTTYPE=image/jpeg:https://www.aspen-sky.com/wp-content/uploads/2026/03/3311_image_655767585_919465974175513_5382801921180844008_n.jpg
END:VEVENT
BEGIN:VEVENT
DTSTART;TZID=America/Chicago:20260514T173000
DTEND;TZID=America/Chicago:20260514T173000
DTSTAMP:20260421T102924
CREATED:20260420T201207Z
LAST-MODIFIED:20260420T201524Z
UID:10000476-1778779800-1778779800@www.aspen-sky.com
SUMMARY:Pour & Play: Patio Game Night
DESCRIPTION:Looking for something fun to do on Thursday nights that doesn’t require a schedule or a big commitment? \nJoin us for Pour & Play –Patio Game Night\nIt’s a casual\, drop-in evening of lawn games\, drinks\, and a little friendly competition. \n🍷 Grab a drink\n 🎯 Jump into a game\n 🏆 Rack up wins and compete for prizes \nNo brackets. No sign-ups. No pressure. \nJust show up\, add your name to the list\, and play a few quick rounds.  \n🎯 This Week’s Games Include:\nBags\nBocce Roll\nWashers \n⏱️ How It Works:\n5:30 PM – Warm-up play begins\n6:00 PM – Games officially start (wins count)\nPlay quick rounds and rotate through\nWinner stays on and earns a point\n8:30 PM – Winners announced + prizes awarded \n🏆 The team with the most wins at the end of the night takes home a prize.\nDrop in. Grab a drink. Play a few rounds.
URL:https://www.aspen-sky.com/venuecalendar/pour-play-patio-game-night-2/
LOCATION:Aspen Sky – Winery\, Distillery\, & Event Center\, 860 Enterprise Dr\, 53086
CATEGORIES:Winery Event
ATTACH;FMTTYPE=image/jpeg:https://www.aspen-sky.com/wp-content/uploads/2026/04/3346_image_671820389_938038115651632_1244603597907594101_n.jpg
END:VEVENT
BEGIN:VEVENT
DTSTART;TZID=America/Chicago:20260514T190000
DTEND;TZID=America/Chicago:20260514T190000
DTSTAMP:20260421T102924
CREATED:20260410T132702Z
LAST-MODIFIED:20260410T132851Z
UID:10000474-1778785200-1778785200@www.aspen-sky.com
SUMMARY:Aspen Sky Gives Back: Trivia Night
DESCRIPTION:✨ Aspen Sky Gives Back: Trivia Night! ✨ \nLooking for a fun night out that also supports a great cause? Gather your smartest friends and grab your team ticket for Trivia Night! 🧠🎉 \nThis month\, we’re proud to partner with Slinger PBO to help raise funds and give back to the community. \n📅 Thursday\, May 14th\n🕖 Trivia: 7:00 PM – 9:00 PM\n⏰ Check-in begins at 6:00 PM \nBring your A-game\, enjoy a great atmosphere\, and make a difference while having fun! Grab your team ticket today—we can’t wait to see you there! \n* Social Club members receive 20% off
URL:https://www.aspen-sky.com/venuecalendar/aspen-sky-gives-back-trivia-night-22/
LOCATION:Aspen Sky – Winery\, Distillery\, & Event Center\, 860 Enterprise Dr\, 53086
CATEGORIES:Winery Event
ATTACH;FMTTYPE=image/jpeg:https://www.aspen-sky.com/wp-content/uploads/2026/04/3339_image_665763609_932883892833721_6557125223183972714_n.jpg
END:VEVENT
BEGIN:VEVENT
DTSTART;TZID=America/Chicago:20260515T190000
DTEND;TZID=America/Chicago:20260515T190000
DTSTAMP:20260421T102924
CREATED:20260420T201214Z
LAST-MODIFIED:20260420T201519Z
UID:10000477-1778871600-1778871600@www.aspen-sky.com
SUMMARY:Wine & Charcuterie Bites Pairing
DESCRIPTION:Wine & Charcuterie Bites Pairing 🍷🧀 \nJoin us for a fun and flavorful evening exploring how Aspen Sky wines perfectly pair with unique charcuterie bites! \nYou’ll learn what works\, what surprises your palate\, and what to add to your next board! Whether you’re hosting friends or treating yourself. Enjoy four delicious sample-sized bites\, each thoughtfully paired with our Aspen Sky wines. \nBring your curiosity and discover new favorite combinations you’ll want to recreate at home. \n✨ Don’t miss out—Social Club members receive 20% off!
URL:https://www.aspen-sky.com/venuecalendar/wine-charcuterie-bites-pairing/
LOCATION:Aspen Sky – Winery\, Distillery\, & Event Center\, 860 Enterprise Dr\, 53086
CATEGORIES:Winery Event
ATTACH;FMTTYPE=image/jpeg:https://www.aspen-sky.com/wp-content/uploads/2026/04/3348_image_671832699_938030038985773_4032372338470562364_n.jpg
END:VEVENT
BEGIN:VEVENT
DTSTART;TZID=America/Chicago:20260515T200000
DTEND;TZID=America/Chicago:20260515T200000
DTSTAMP:20260421T102924
CREATED:20260403T152329Z
LAST-MODIFIED:20260403T152351Z
UID:10000473-1778875200-1778875200@www.aspen-sky.com
SUMMARY:Acoustic Night: Featuring Rhonda Jean
DESCRIPTION:Acoustic Night: Live Music with Rhonda Jean 🎸 \nJoin us for a laid-back evening of live music featuring the talented Rhonda Jean! A seasoned and well-known singer/songwriter throughout the region\, Rhonda Jean will take you on a musical journey with a mix of heartfelt originals and familiar favorites. \nKick back\, relax\, and enjoy the sounds of acoustic music while sipping your favorite Aspen Sky beverages. It’s the perfect way to unwind with great drinks\, great company\, and even better music. \nNo ticket needed!\nLive music from 6:00 PM – 9:00 PM \n✨ See you there for a night of great music and great vibes!
URL:https://www.aspen-sky.com/venuecalendar/acoustic-night-featuring-rhonda-jean/
LOCATION:Aspen Sky – Winery\, Distillery\, & Event Center\, 860 Enterprise Dr\, 53086
CATEGORIES:Winery Event
ATTACH;FMTTYPE=image/jpeg:https://www.aspen-sky.com/wp-content/uploads/2026/04/3331_image_660517426_928501769938600_6815328799970505596_n.jpg
END:VEVENT
BEGIN:VEVENT
DTSTART;TZID=America/Chicago:20260517T100000
DTEND;TZID=America/Chicago:20260517T100000
DTSTAMP:20260421T102924
CREATED:20260420T201220Z
LAST-MODIFIED:20260420T201510Z
UID:10000478-1779012000-1779012000@www.aspen-sky.com
SUMMARY:Pups On The Patio
DESCRIPTION:Grab your four-legged best friend and join us for a tail-wagging good time at Pups on the Patio! Spend the day soaking up the sunshine while relaxing on the patio with your favorite Aspen Sky wine or cocktail in hand. \nWhether you’re sipping\, socializing\, or just enjoying the fresh air\, it’s the perfect outing for you and your pup. \nSunday\, May 17th | 10:00 AM – 6:00 PM\nNo ticket needed!\nWell-behaved\, leashed dogs are welcome. \n🐶 Cheers to good drinks\, great company\, and happy pups!
URL:https://www.aspen-sky.com/venuecalendar/pups-on-the-patio-5/
LOCATION:Aspen Sky – Winery\, Distillery\, & Event Center\, 860 Enterprise Dr\, 53086
CATEGORIES:Winery Event
ATTACH;FMTTYPE=image/jpeg:https://www.aspen-sky.com/wp-content/uploads/2026/04/3350_image_662054767_929019103220200_4180100381721346808_n.jpg
END:VEVENT
BEGIN:VEVENT
DTSTART;TZID=America/Chicago:20260521T173000
DTEND;TZID=America/Chicago:20260521T173000
DTSTAMP:20260421T102924
CREATED:20260420T201227Z
LAST-MODIFIED:20260420T201504Z
UID:10000479-1779384600-1779384600@www.aspen-sky.com
SUMMARY:Pour & Play: Patio Games Night
DESCRIPTION:Looking for something fun to do on Thursday nights that doesn’t require a schedule or a big commitment? \nJoin us for Pour & Play – Lawn Game Nights\nIt’s a casual\, drop-in evening of lawn games\, drinks\, and a little friendly competition. \n🍷 Grab a drink\n 🎯 Jump into a game\n 🏆 Rack up wins and compete for prizes \nNo brackets. No sign-ups. No pressure. \nJust show up\, add your name to the list\, and play a few quick rounds.  \n🎯 This Week’s Games Include:\nBags\nBocce Roll\nRing Toss  \n⏱️ How It Works:\n5:30 PM – Warm-up play begins\n6:00 PM – Games officially start (wins count)\nPlay quick rounds and rotate through\nWinner stays on and earns a point\n8:30 PM – Winners announced + prizes awarded \n🏆 The team with the most wins at the end of the night takes home a prize. \nDrop in. Grab a drink. Play a few rounds.
URL:https://www.aspen-sky.com/venuecalendar/pour-play-patio-games-night/
LOCATION:Aspen Sky – Winery\, Distillery\, & Event Center\, 860 Enterprise Dr\, 53086
CATEGORIES:Winery Event
ATTACH;FMTTYPE=image/jpeg:https://www.aspen-sky.com/wp-content/uploads/2026/04/3352_image_669859153_938039622318148_6719930294815616741_n.jpg
END:VEVENT
BEGIN:VEVENT
DTSTART;TZID=America/Chicago:20260521T190000
DTEND;TZID=America/Chicago:20260521T190000
DTSTAMP:20260421T102924
CREATED:20260420T201233Z
LAST-MODIFIED:20260420T201458Z
UID:10000480-1779390000-1779390000@www.aspen-sky.com
SUMMARY:Music Bingo: 90's Mix
DESCRIPTION:90’s Music Bingo Night 🎶🕺 \nWe’re kicking it 90’s style this month! Get ready for a nostalgic night of Music Bingo featuring your favorite hits from artists like Cher\, Bon Jovi\, Prince\, and more. Sing along\, test your music knowledge\, and play fun rounds of bingo for a chance to win! \nThursday\, May 21st: 7pm-9pm \nCheck In Starts at 6pm!  \nThe best part? Each ticket includes one free Aspen Sky beverage to sip while you play. \nGrab your friends\, throw it back to the 90s\, and enjoy a night full of great music\, drinks\, and fun vibes. \nTickets are limited and sell out fast—secure yours today!\n✨ Social Club Members receive 20% off
URL:https://www.aspen-sky.com/venuecalendar/music-bingo-90s-mix/
LOCATION:Aspen Sky – Winery\, Distillery\, & Event Center\, 860 Enterprise Dr\, 53086
CATEGORIES:Winery Event
ATTACH;FMTTYPE=image/jpeg:https://www.aspen-sky.com/wp-content/uploads/2026/04/3354_image_659006145_929034186552025_1042491815109215450_n.jpg
END:VEVENT
BEGIN:VEVENT
DTSTART;TZID=America/Chicago:20260522T180000
DTEND;TZID=America/Chicago:20260522T180000
DTSTAMP:20260421T102924
CREATED:20260420T201240Z
LAST-MODIFIED:20260420T201452Z
UID:10000481-1779472800-1779472800@www.aspen-sky.com
SUMMARY:Acoustic Night: Featuring Fisher Keys
DESCRIPTION:Acoustic Night: Live Music with Fisher Keys 🎹 \nJoin us for Acoustic Night featuring Fischer Keys! Jonathan is a talented pianist and vocalist with over 25 years of performance experience\, blending soulful classics from artists like Bill Withers and Sam Cooke with creative interpretations of modern songs.\nWith smooth piano\, rich vocals\, light humor\, and great crowd interaction\, Jonathan creates a relaxed and fun atmosphere for everyone in the room. \nCome enjoy live music while sipping your favorite Aspen Sky beverages. Great music and great drinks! ✨ \nNo ticket needed! Live music from 6pm-9pm
URL:https://www.aspen-sky.com/venuecalendar/acoustic-night-featuring-fisher-keys-2/
LOCATION:Aspen Sky – Winery\, Distillery\, & Event Center\, 860 Enterprise Dr\, 53086
CATEGORIES:Winery Event
ATTACH;FMTTYPE=image/jpeg:https://www.aspen-sky.com/wp-content/uploads/2026/04/3356_image_672683873_941387185316725_3309052446903946480_n.jpg
END:VEVENT
BEGIN:VEVENT
DTSTART;TZID=America/Chicago:20260524T110000
DTEND;TZID=America/Chicago:20260524T110000
DTSTAMP:20260421T102924
CREATED:20260420T201252Z
LAST-MODIFIED:20260420T201447Z
UID:10000483-1779620400-1779620400@www.aspen-sky.com
SUMMARY:Bloody Mary Flight Night
DESCRIPTION:🍅 Bloody Mary Brunch Flight 🍅 \nCalling all brunch lovers! Join us at Aspen Sky for a filling brunch sipper you won’t want to miss. \nEnjoy four 5oz pours of our Bloody Mary creations\, each featuring its own unique flavor and twist. It’s the perfect way to sip\, sample\, and find your favorite — whether you like it classic or bold! \nSunday\, May 24th: 11am-2pm \n🎟️ Tickets available now\n🥂 20% off for Social Club Members \nGrab your friends\, make a brunch date out of it\, and kick back with the ultimate Bloody Mary experience at Aspen Sky!
URL:https://www.aspen-sky.com/venuecalendar/bloody-mary-flight-night/
LOCATION:Aspen Sky – Winery\, Distillery\, & Event Center\, 860 Enterprise Dr\, 53086
CATEGORIES:Winery Event
ATTACH;FMTTYPE=image/jpeg:https://www.aspen-sky.com/wp-content/uploads/2026/04/3360_image_660275666_929041899884587_3369314224685794309_n.jpg
END:VEVENT
BEGIN:VEVENT
DTSTART;TZID=America/Chicago:20260528T173000
DTEND;TZID=America/Chicago:20260528T173000
DTSTAMP:20260421T102924
CREATED:20260420T201246Z
LAST-MODIFIED:20260420T201441Z
UID:10000482-1779989400-1779989400@www.aspen-sky.com
SUMMARY:Pour & Play: Patio Game Night
DESCRIPTION:Looking for something fun to do on Thursday nights that doesn’t require a schedule or a big commitment? \nJoin us for Pour & Play – Lawn Game Nights \nIt’s a casual\, drop-in evening of lawn games\, drinks\, and a little friendly competition. \n🍷 Grab a drink\n 🎯 Jump into a game\n 🏆 Rack up wins and compete for prizes \nNo brackets. No sign-ups. No pressure. \nJust show up\, add your name to the list\, and play a few quick rounds.  \n🎯 This Week’s Games Include:\nBags\nBocce Roll\nGiant Pong \n⏱️ How It Works:\n5:30 PM – Warm-up play begins\n6:00 PM – Games officially start (wins count)\nPlay quick rounds and rotate through\nWinner stays on and earns a point\n8:30 PM – Winners announced + prizes awarded \n🏆 The team with the most wins at the end of the night takes home a prize. \nDrop in. Grab a drink. Play a few rounds.
URL:https://www.aspen-sky.com/venuecalendar/pour-play-patio-game-night-3/
LOCATION:Aspen Sky – Winery\, Distillery\, & Event Center\, 860 Enterprise Dr\, 53086
CATEGORIES:Winery Event
ATTACH;FMTTYPE=image/jpeg:https://www.aspen-sky.com/wp-content/uploads/2026/04/3358_image_672683353_938040695651374_7681441212537171051_n.jpg
END:VEVENT
BEGIN:VEVENT
DTSTART;TZID=America/Chicago:20260529T180000
DTEND;TZID=America/Chicago:20260529T180000
DTSTAMP:20260421T102924
CREATED:20260420T201258Z
LAST-MODIFIED:20260420T201433Z
UID:10000484-1780077600-1780077600@www.aspen-sky.com
SUMMARY:Summer Concert Series: Brent Bel
DESCRIPTION:Summer Concert Series Kickoff ☀️🎶 \nSummer is back—and that means it’s time for the Aspen Sky Summer Concert Series! Join us as we kick off the season with a special performance from Brent Bel\, making his debut on the Aspen Sky patio. Enjoy an evening of country music favorites spanning the decades\, perfect for a warm summer night. \nSit back\, relax\, and take in the music while sipping your favorite Aspen Sky wine or cocktail. It’s the ultimate way to celebrate the return of patio season! \nNo ticket needed—just come out and enjoy the music!
URL:https://www.aspen-sky.com/venuecalendar/summer-concert-series-brent-bel/
LOCATION:Aspen Sky – Winery\, Distillery\, & Event Center\, 860 Enterprise Dr\, 53086
CATEGORIES:Winery Event
ATTACH;FMTTYPE=image/jpeg:https://www.aspen-sky.com/wp-content/uploads/2026/04/3362_image_662304868_929055623216548_8013113999448021821_n.jpg
END:VEVENT
BEGIN:VEVENT
DTSTART;TZID=America/Chicago:20260530T110000
DTEND;TZID=America/Chicago:20260530T110000
DTSTAMP:20260421T102924
CREATED:20260420T201305Z
LAST-MODIFIED:20260420T201427Z
UID:10000485-1780138800-1780138800@www.aspen-sky.com
SUMMARY:Summer Concert Series: Marr'Lo
DESCRIPTION:Summer Concert Series: Marr’Lo 🎶☀️ \nMarr’Lo is back on the Aspen Sky patio! Join us for an afternoon of live music as he performs an array of styles\, bringing something for everyone to enjoy. \nSip on your favorite Aspen Sky wine or cocktail while you relax\, unwind\, and take in the sounds of live music in the sunshine. It’s the perfect way to spend a summer day! \nSaturday\, May 30th | 11:00 AM – 2:00 PM\nNo ticket needed—just come enjoy the music!
URL:https://www.aspen-sky.com/venuecalendar/summer-concert-series-marrlo/
LOCATION:Aspen Sky – Winery\, Distillery\, & Event Center\, 860 Enterprise Dr\, 53086
CATEGORIES:Winery Event
ATTACH;FMTTYPE=image/jpeg:https://www.aspen-sky.com/wp-content/uploads/2026/04/3364_image_659026059_929066069882170_7172172124031015272_n.jpg
END:VEVENT
END:VCALENDAR